BEGIN:VCALENDAR
VERSION:2.0
PRODID:-//Meer Dance &amp; Events - ECPv6.15.20//NONSGML v1.0//EN
CALSCALE:GREGORIAN
METHOD:PUBLISH
X-WR-CALNAME:Meer Dance &amp; Events
X-ORIGINAL-URL:https://www.meerdance.nl
X-WR-CALDESC:Evenementen voor Meer Dance &amp; Events
REFRESH-INTERVAL;VALUE=DURATION:PT1H
X-Robots-Tag:noindex
X-PUBLISHED-TTL:PT1H
BEGIN:VTIMEZONE
TZID:Europe/Amsterdam
BEGIN:DAYLIGHT
TZOFFSETFROM:+0100
TZOFFSETTO:+0200
TZNAME:CEST
DTSTART:20240331T010000
END:DAYLIGHT
BEGIN:STANDARD
TZOFFSETFROM:+0200
TZOFFSETTO:+0100
TZNAME:CET
DTSTART:20241027T010000
END:STANDARD
BEGIN:DAYLIGHT
TZOFFSETFROM:+0100
TZOFFSETTO:+0200
TZNAME:CEST
DTSTART:20250330T010000
END:DAYLIGHT
BEGIN:STANDARD
TZOFFSETFROM:+0200
TZOFFSETTO:+0100
TZNAME:CET
DTSTART:20251026T010000
END:STANDARD
BEGIN:DAYLIGHT
TZOFFSETFROM:+0100
TZOFFSETTO:+0200
TZNAME:CEST
DTSTART:20260329T010000
END:DAYLIGHT
BEGIN:STANDARD
TZOFFSETFROM:+0200
TZOFFSETTO:+0100
TZNAME:CET
DTSTART:20261025T010000
END:STANDARD
BEGIN:DAYLIGHT
TZOFFSETFROM:+0100
TZOFFSETTO:+0200
TZNAME:CEST
DTSTART:20270328T010000
END:DAYLIGHT
BEGIN:STANDARD
TZOFFSETFROM:+0200
TZOFFSETTO:+0100
TZNAME:CET
DTSTART:20271031T010000
END:STANDARD
END:VTIMEZONE
BEGIN:VEVENT
DTSTART;TZID=Europe/Amsterdam:20260123T180000
DTEND;TZID=Europe/Amsterdam:20260123T220000
DTSTAMP:20260420T100839
CREATED:20260114T131800Z
LAST-MODIFIED:20260115T074236Z
UID:13272-1769191200-1769205600@www.meerdance.nl
SUMMARY:Auditie oproep Dreamfactory
DESCRIPTION:Droom jij ervan om op het podium te staan in een magische musical?\nDan is dit jouw moment. \nVoor onze nieuwe musical Dreamfactory 2026 zijn wij op zoek naar jongens en meisjes\, mannen en vrouwen die houden van toneelspelen\, verhalen vertellen en samen iets bijzonders neerzetten.Wie zoeken wij? \n1) Spelers met zangervaring \nBen jij sterk in acteren en zingen? Dan zijn er mooie rollen met tekst\, spel en zang voor jou.\nLeeftijd: vanaf 12 jaar \n2) Kinderen die vooral goed zijn in zingen\nHou jij van zingen en durf je dit ook op het podium?\nDan pas jij misschien wel in onze kids-zanggroep\nDansen of acteren is voor deze rollen geen vereiste – de focus ligt volledig op zingen.\nLeeftijd: vanaf 7 jaar \n3) Kinderen die vooral goed zijn in acteren\nKun je je goed inleven\, emoties overbrengen en een verhaal vertellen met woorden en mimiek?\nZang is geen vereiste voor deze kinderrollen.\nLeeftijd: vanaf 7 jaar \n4) Kinderen met een grote droom\nDroom jij ervan om mee te doen in een musical\, maar vind je het spannend of heb je nog weinig ervaring?\nOok voor kleinere rollen en korte scènes zoeken we enthousiaste spelers/figuranten die graag willen leren.\nLeeftijd: vanaf 7 jaar \nWat zoeken we vooral?\nPlezier in spelen en samenwerken\nJezelf durven te laten zien\nFantasie en verbeeldingskracht\nEnthousiasme en inzet \nDurf jij het aan om auditie te doen? Stuur dan een email voor vrijdag 16 januari 2026 naar wendy@meerdance.nl en geef DUIDELIJK aan waarvoor je auditie wil doen\, nummer 1\, 2\, 3\, of 4. \nJe ontvangt dan verdere instructies voor de 1e online auditieronde . Deze auditievideo moet uiterlijk woensdag 21 januari a.s. in ons bezit zijn. Donderdag 22 januari a.s. krijgt iedereen de uitslag met eventueel daarbij een uitnodiging voor de 1e live auditie op vrijdag 23 januari a.s. \n  \nDreamfactory is een warme\, magische voorstelling over dromen\, herinneringen en groeien. Een verhaal waarin iedereen mee mag doen en waarin elke rol – groot of klein – belangrijk is.\nDeze musical is de rode draad van de eindshow van Meer Dance & Events. \nWanneer\nDoorloop:                      Zaterdag 9 mei 2026\nGenerale repetitie:        Vrijdag 29 mei 2026 (eind van de middag /avond)\nShows:                           Zaterdag 30 en zondag 31 mei 2026 in theater C Punt Hoofddorp \n  \n________________________________________ \nAudities: Vrijdag 23 januari a.s. 18:15-19:30 uur voor auditanten 2 + 3 + 4 / 20:00-21:30 uur voor auditanten 1 \n  \nLocatie: Meer Dance & Events\, locatie Happy Kids\, Bennebroekerweg 802 Hoofddorp \n 
URL:https://www.meerdance.nl/event/auditie-oproep-dreamfactory/
LOCATION:Zaal 3 Happy Kids\, Bennebroekerweg 802\, Hoofddorp\, Netherlands
CATEGORIES:Audities
ATTACH;FMTTYPE=image/png:https://www.meerdance.nl/wp-content/uploads/2026/01/auditie-oproep.png
END:VEVENT
BEGIN:VEVENT
DTSTART;TZID=Europe/Amsterdam:20250829T160000
DTEND;TZID=Europe/Amsterdam:20250829T180000
DTSTAMP:20260420T100839
CREATED:20250630T153133Z
LAST-MODIFIED:20250924T191811Z
UID:12424-1756483200-1756490400@www.meerdance.nl
SUMMARY:AUDITIE Musicalproductiegroep
DESCRIPTION:De Meer Dance & Musical Productiegroep is op zoek naar  talent! \nSeizoen 2025-2026 speelt de Meer Dance & Musical productiegroep een zelf geschreven musical Charlie & the Chocohackers\, gebaseerd op Charlie & the chocolate factory. \n\n\nBen jij tussen de 8 en 25 jaar? Doe je niets liever dan zingen\, dansen\, acteren én heb je al enige ervaring? Doe dan auditie voor onze productiegroep! \nElke vrijdag werk je twee uur lang aan een bekende musical\, om aan het eind van het seizoen een te gekke voorstelling te spelen in het theater. Samen met onze docenten ga je wekelijks aan de slag op het gebied van zang\, dans en acteren. Samen repeteren we met plezier de teksten\, choreo’s en nummers van een bekende musical\, waarbij elke rol en inbreng even belangrijk is. \nAuditie: vrijdag 29 augustus 2025 om 16:00 uur. \nAANMELDEN voor auditie \nSpeeldatum: 11 april 2025 Theater Cpunt kleine zaal. \n\n\nKlinkt dit als muziek in je oren en durf je deze uitdaging aan? Dan zien we je graag bij de audities. \n  \n  \n  \n 
URL:https://www.meerdance.nl/event/auditie-musicalproductiegroep/
LOCATION:Meer Dance & Events\, Minaret 1\, Hoofddorp\, Nederland\, 2134 BC\, Nederland
CATEGORIES:Audities
ATTACH;FMTTYPE=image/jpeg:https://www.meerdance.nl/wp-content/uploads/2023/08/Promo-Charlie.jpg
ORGANIZER;CN="Meer Dance & Events":MAILTO:info@meerdance.nl
END:VEVENT
END:VCALENDAR